BEGIN:VCALENDAR
VERSION:2.0
PRODID:-//AudioTheme 3.0.2
BEGIN:VEVENT
UID:urn:uuid:021d4136-4bf1-434d-b7f2-682ca67709e5
URL:https://chiomedoro.com/index.php/shows/italie-muse-de-leurope/
DTSTART;TZID=GMT:20120126T190000
SUMMARY:Italie : Muse de l’Europe
LOCATION:Festival Mise-en-voix\, Salle communale de Cologny\, Suisse
END:VEVENT
END:VCALENDAR
