BEGIN:VCALENDAR
VERSION:2.0
PRODID:-//AudioTheme 3.0.2
BEGIN:VEVENT
UID:urn:uuid:75e4a25d-b8dd-46a3-9511-27dc2ace4cb2
URL:https://chiomedoro.com/index.php/shows/2018-08-03/
DTSTART;TZID=GMT:20180803T190000
SUMMARY:Capriccio d'Amore
DESCRIPTION:Programme Capriccio d'Amore
LOCATION:La Chabotterie\, La Chabotterie\, Saint-Sulpice-le-Verdon\, \, France\, 85260
END:VEVENT
END:VCALENDAR
