BEGIN:VCALENDAR
VERSION:2.0
PRODID:-//AudioTheme 3.0.2
BEGIN:VEVENT
UID:urn:uuid:1bc323f3-d533-47b9-a9f5-25302ad76efc
URL:https://chiomedoro.com/index.php/shows/2018-02-26/
DTSTART;TZID=GMT:20180225T140000
SUMMARY:Capriccio d'Amore
LOCATION:Marlhes\, Place Marcellin Champagnat\, Marlhes\, \, 42660
END:VEVENT
END:VCALENDAR
