BEGIN:VCALENDAR
VERSION:2.0
PRODID:-//AudioTheme 3.0.2
BEGIN:VEVENT
UID:urn:uuid:dfaad455-deee-4679-b70b-e2bf818ca743
URL:https://chiomedoro.com/index.php/shows/2018-01-14/
DTSTART;TZID=GMT:20180114T160000
SUMMARY:Théâtre du Monde
LOCATION:Thés Baroques dans le Marais\, 38\, rue Rivoli\, Paris\, \, 75004
END:VEVENT
END:VCALENDAR
